BEGIN:VCALENDAR
VERSION:2.0
PRODID:Events Booking
BEGIN:VEVENT
UID:69eb440c6e3c0
SUMMARY:National PCC Week 2024
DESCRIPTION:
 
 8-12:00 pm Friday\, September 27\, 2024
 Bloomington Pos
 t Office Conference Room&nbsp\;(enter from Fairway Drive)&nbsp\;&nbsp\; &n
 bsp\;&nbsp\;1511 E EmpireBloomington IL 61701
 Featured Speakers: Robert 
 Cintron\, Vice President\, Logistics
 
LOCATION:1511 E Empire St\, Bloomington\, IL 61701\, USA
DTSTART:20240927T130000Z
DTEND:20240927T170000Z
DTSTAMP:20240808T021954Z
ORGANIZER;CN=The Central Illinois PCC:MAILTO:boardmembers@thecipcc.com
GEO:40.487223;-88.960088
X-APPLE-STRUCTURED-LOCATION;VALUE=URI;X-ADDRESS=1511 E Empire St\, Blooming
 ton\, IL 61701\, USA;X-APPLE-RADIUS=72;X-TITLE=Bloomington Post Office:40.
 487223;-88.960088
END:VEVENT
END:VCALENDAR