BEGIN:VCALENDAR
VERSION:2.0
PRODID:Events Booking
BEGIN:VEVENT
UID:69ea5a31f09c5
SUMMARY:National Postal Forum
DESCRIPTION:
 Visit npf.org for details
 Watch a message from Postmaster 
 General David Steiner inviting YOU to NPF 2026 in Phoenix!
DTSTART:20260503T050000Z
DTEND:20260506T050000Z
DTSTAMP:20260116T015705Z
ORGANIZER;CN=The Central Illinois PCC:MAILTO:boardmembers@thecipcc.com
END:VEVENT
END:VCALENDAR