BEGIN:VCALENDAR
VERSION:2.0
PRODID:Events Booking
BEGIN:VEVENT
UID:69ea5b4ed6b43
SUMMARY:National PCC Week 2026
DESCRIPTION:
LOCATION:3280 Northfield Dr\, Springfield\, IL 62702\, USA
DTSTART:20260929T150000Z
DTEND:20260929T190000Z
DTSTAMP:20260116T020343Z
ORGANIZER;CN=The Central Illinois PCC:MAILTO:boardmembers@thecipcc.com
GEO:39.833082;-89.600752
X-APPLE-STRUCTURED-LOCATION;VALUE=URI;X-ADDRESS=3280 Northfield Dr\, Spring
 field\, IL 62702\, USA;X-APPLE-RADIUS=72;X-TITLE=Northfield Inn\, Suites &
  Conference Center:39.833082;-89.600752
END:VEVENT
END:VCALENDAR