BEGIN:VCALENDAR
VERSION:2.0
PRODID:Events Booking
BEGIN:VEVENT
UID:69ea5b9be2db4
SUMMARY:Grow Your Business Day & Membership Drive
DESCRIPTION:
DTSTART:20260819T150000Z
DTEND:20260819T180000Z
DTSTAMP:20260116T020123Z
ORGANIZER;CN=The Central Illinois PCC:MAILTO:boardmembers@thecipcc.com
END:VEVENT
END:VCALENDAR