BEGIN:VCALENDAR
VERSION:2.0
PRODID:Events Booking
BEGIN:VEVENT
UID:69ea5a2fec06a
SUMMARY:Day at the Ballpark - June 17th
DESCRIPTION:The Central Illinois Postal Customer Council invites you to joi
 n us for a day at the ballpark!
 Join us on Wednesday\, June 17\, 2025\, 
 for an afternoon of networking and watching one of America’s favorite pa
 stimes in a climate-controlled luxury deluxe suite.
 Enjoy a lunch buffet
  that will start at 11:30 AM in the suite\, followed by the 12:05 PM first
  pitch as the Peoria Chiefs take on the Dayton Dragons.
 Registration is 
 available by clicking the link below. We hope you will join us for this fu
 n and engaging event.
 
LOCATION:730 SW Jefferson Ave\, Peoria\, IL 61605\, USA
DTSTART:20260617T163000Z
DTEND:20260617T213000Z
DTSTAMP:20260123T013306Z
ORGANIZER;CN=The Central Illinois PCC:MAILTO:boardmembers@thecipcc.com
GEO:40.687586;-89.597789
X-APPLE-STRUCTURED-LOCATION;VALUE=URI;X-ADDRESS=730 SW Jefferson Ave\, Peor
 ia\, IL 61605\, USA;X-APPLE-RADIUS=72;X-TITLE=Dozer Park:40.687586;-89.597
 789
END:VEVENT
END:VCALENDAR