BEGIN:VCALENDAR
VERSION:2.0
PRODID:Events Booking
BEGIN:VEVENT
UID:69ea5bf02317e
SUMMARY:3rd Annual Golf Outing
DESCRIPTION:
LOCATION:1400 S Club House Dr\, Springfield\, IL 62707\, USA
DTSTART:20261008T140000Z
DTEND:20261008T200000Z
DTSTAMP:20260117T012141Z
ORGANIZER;CN=The Central Illinois PCC:MAILTO:boardmembers@thecipcc.com
GEO:39.879154;-89.621633
X-APPLE-STRUCTURED-LOCATION;VALUE=URI;X-ADDRESS=1400 S Club House Dr\, Spri
 ngfield\, IL 62707\, USA;X-APPLE-RADIUS=72;X-TITLE=The Rail Golf Course:39
 .879154;-89.621633
END:VEVENT
END:VCALENDAR