BEGIN:VCALENDAR
VERSION:2.0
PRODID:Events Booking
BEGIN:VEVENT
UID:69eacf6dd51b9
SUMMARY:Coffee and Chat with Shari Rowe\, USPS Inspection Service
DESCRIPTION:Please register to join us at the
 Springfield Post Office Lin
 coln Conference Room\, 2105 E. Cook Street\, 2nd floor\, Springfield IL
 
 On
 Thursday\, March 28\, 2024 at 8:30 a.m.
 For a
 Coffee and Chat wit
 h Shari Rowe\, USPS Inspection Service
 (Coffee and Breakfast refreshment
 s provided)
 Space limited to 30 people maximum
 U.S. Postal Inspector\,
  Shari Rowe\, began her USPS career in 1998\, as a window clerk in Naples\
 , Florida. In 2006\, she accepted the position of U.S. Postal Inspector wi
 th the Washington Division of the U.S. Postal Inspection Service and was a
 ssigned to the Baltimore\, MD domicile where she worked on the violent cri
 mes and workplace violence prevention team. In this assignment\, Shari inv
 estigated crimes such as robberies of letter carriers and postal facilitie
 s\, burglaries\, external threats and assaults upon postal employees\, as 
 internal workplace violence incidents and prevention. In 2010\, she transf
 erred to the Chicago Division\, Springfield\, IL domicile where she worked
  on a multifunctional team investigating all types of postal related crime
 s to include mail fraud\, mail theft\, violent crimes\, and dangerous mail
  investigations. In 2015\, Shari was promoted to the supervisory position 
 of Team Leader leading a team of inspectors on the multifunctional team fo
 r the USPIS Chicago Division.
DTSTART:20240328T133000Z
DTEND:20240328T150000Z
DTSTAMP:20240307T045108Z
ORGANIZER;CN=The Central Illinois PCC:MAILTO:boardmembers@thecipcc.com
END:VEVENT
END:VCALENDAR